BEGIN:VCALENDAR
VERSION:2.0
PRODID:-//Welzijnskompas.nl - ECPv6.7.0//NONSGML v1.0//EN
CALSCALE:GREGORIAN
METHOD:PUBLISH
X-WR-CALNAME:Welzijnskompas.nl
X-ORIGINAL-URL:https://welzijnskompas.nl
X-WR-CALDESC:Evenementen voor Welzijnskompas.nl
REFRESH-INTERVAL;VALUE=DURATION:PT1H
X-Robots-Tag:noindex
X-PUBLISHED-TTL:PT1H
BEGIN:VTIMEZONE
TZID:Europe/Amsterdam
BEGIN:DAYLIGHT
TZOFFSETFROM:+0100
TZOFFSETTO:+0200
TZNAME:CEST
DTSTART:20240331T010000
END:DAYLIGHT
BEGIN:STANDARD
TZOFFSETFROM:+0200
TZOFFSETTO:+0100
TZNAME:CET
DTSTART:20241027T010000
END:STANDARD
END:VTIMEZONE
BEGIN:VEVENT
DTSTART;TZID=Europe/Amsterdam:20240822T090000
DTEND;TZID=Europe/Amsterdam:20240822T103000
DTSTAMP:20260423T060955
CREATED:20240709T114442Z
LAST-MODIFIED:20240816T111401Z
UID:10001907-1724317200-1724322600@welzijnskompas.nl
SUMMARY:Zhineng Qigong tijdens Summerschool
DESCRIPTION:De rustige en vloeiende bewegingen hebben een positief effect op lichaam en geest. \nGraag aanmelden via info@welzijnskompas.nl of bel (0252) 757100.
URL:https://welzijnskompas.nl/activiteit/zhineng-qigong-tijdens-summerschool-2/
LOCATION:Conny\, Satellietbaan 33\, Hillegom
CATEGORIES:Gezond leven,Meedoen en ontmoeten
ATTACH;FMTTYPE=image/jpeg:https://welzijnskompas.nl/app/uploads/2024/07/Foto-socials-Summerschool.jpg
END:VEVENT
END:VCALENDAR